BEGIN:VCALENDAR
VERSION:2.0
PRODID:-//Star Magic - ECPv6.6.0.2//NONSGML v1.0//EN
CALSCALE:GREGORIAN
METHOD:PUBLISH
X-WR-CALNAME:Star Magic
X-ORIGINAL-URL:https://smstg.testingweblink.com
X-WR-CALDESC:Events for Star Magic
REFRESH-INTERVAL;VALUE=DURATION:PT1H
X-Robots-Tag:noindex
X-PUBLISHED-TTL:PT1H
BEGIN:VTIMEZONE
TZID:Europe/London
BEGIN:DAYLIGHT
TZOFFSETFROM:+0000
TZOFFSETTO:+0100
TZNAME:BST
DTSTART:20230326T010000
END:DAYLIGHT
BEGIN:STANDARD
TZOFFSETFROM:+0100
TZOFFSETTO:+0000
TZNAME:GMT
DTSTART:20231029T010000
END:STANDARD
END:VTIMEZONE
BEGIN:VEVENT
DTSTART;TZID=Europe/London:20231111T160000
DTEND;TZID=Europe/London:20231111T170000
DTSTAMP:20260426T010503
CREATED:20231010T154235Z
LAST-MODIFIED:20240112T211315Z
UID:214689-1699718400-1699722000@smstg.testingweblink.com
SUMMARY:11:11 Portal Activation\, 11th November 2023
DESCRIPTION:FREE EVENT\nYou are invited to join Jerry & Livia for this free Event \nAs we move into the 11:11 gateway\, offering new frequencies and energetic upgrades\, Jerry Sargeant and Livia Devia are teaming up to offer a free potent galactic transmission\, that will prepare your Lightbody and multidimensional architecture for the 6th dimensional grids structures being constructed around our beloved planet. \nThis Asension journey is beautiful exploration of possibility\, and we have so much more to discover about ourselves\, each other and our magical planet\, yet alone the universe at large. Connecting to higher bands of energy and potential\, opens us up to receive a greater capacity of light. This in turns activates more of our DNA and unlocks the magic from within. \nARE YOU READY?\nExpect Transformation!\nSee You on the Inside Beautiful Souls
URL:https://smstg.testingweblink.com/event/11-11-portal-activation/
CATEGORIES:All Events,Free Events,In-person Workshops,Online Workshop
ATTACH;FMTTYPE=image/jpeg:https://smstg.testingweblink.com/wp-content/uploads/2023/10/website_11-11-portal-activation.jpg
END:VEVENT
END:VCALENDAR